BEGIN:VCALENDAR
VERSION:2.0
PRODID:gruene-kreistag.de
METHOD:PUBLISH
BEGIN:VTIMEZONE
TZID:Europe/Berlin
X-LIC-LOCATION:Europe/Berlin
BEGIN:DAYLIGHT
TZOFFSETFROM:+0100
TZOFFSETTO:+0200
TZNAME:CEST
DTSTART:19700329T020000
RRULE:FREQ=YEARLY;INTERVAL=1;BYDAY=-1SU;BYMONTH=3
END:DAYLIGHT
BEGIN:STANDARD
TZOFFSETFROM:+0200
TZOFFSETTO:+0100
TZNAME:CET
DTSTART:19701025T030000
RRULE:FREQ=YEARLY;INTERVAL=1;BYDAY=-1SU;BYMONTH=10
END:STANDARD
END:VTIMEZONE
BEGIN:VEVENT
UID:137a6ce1fc66cc2a53c0207e458f90f9@gruene-kreistag.de
URL;VALUE=URI:https://gruene-kreistag.de/termine/inklusionsbeirat-2/
LOCATION:Kreishaus, 32051 Herford, Sitzungsraum 3.01/3.02
SUMMARY:Inklusionsbeirat
DESCRIPTION;ALTREP="data:text/html,%3Cp%3ELink%20zur%20Tagesordnung%3A%20
 https%3A%2F%2Fkreis-herford.ratsinfomanagement.net%2Ftops%2F%3F__%3DUGhVM
 0hpd2NXNFdFcExjZdZp6j3XcfTdz7QmNj1Mutc%3C%2Fp%3E":Link zur Tagesordnung: 
 https://kreis-herford.ratsinfomanagement.net/tops/?__=UGhVM0hpd2NXNFdFcEx
 jZdZp6j3XcfTdz7QmNj1Mutc
CLASS:PUBLIC
DTSTART;TZID=Europe/Berlin:20260601T170000
DTEND;TZID=Europe/Berlin:20260601T180000
DTSTAMP:20260425T104409
END:VEVENT
END:VCALENDAR