BEGIN:VCALENDAR
VERSION:2.0
PRODID:gruene-kreistag.de
METHOD:PUBLISH
BEGIN:VTIMEZONE
TZID:Europe/Berlin
X-LIC-LOCATION:Europe/Berlin
BEGIN:DAYLIGHT
TZOFFSETFROM:+0100
TZOFFSETTO:+0200
TZNAME:CEST
DTSTART:19700329T020000
RRULE:FREQ=YEARLY;INTERVAL=1;BYDAY=-1SU;BYMONTH=3
END:DAYLIGHT
BEGIN:STANDARD
TZOFFSETFROM:+0200
TZOFFSETTO:+0100
TZNAME:CET
DTSTART:19701025T030000
RRULE:FREQ=YEARLY;INTERVAL=1;BYDAY=-1SU;BYMONTH=10
END:STANDARD
END:VTIMEZONE
BEGIN:VEVENT
UID:f488f19699932fa2d83af193e5135c9c@gruene-kreistag.de
URL;VALUE=URI:https://gruene-kreistag.de/termine/naturschutzbeirat-4/
LOCATION:Extern, , Busfahrt
SUMMARY:Naturschutzbeirat
DESCRIPTION;ALTREP="data:text/html,%3Cp%3ELink%20zur%20Tagesordnung%3A%20
 https%3A%2F%2Fkreis-herford.ratsinfomanagement.net%2Ftops%2F%3F__%3DUGhVM
 0hpd2NXNFdFcExjZQiq2aPfVh675CR5I4kTPR0%3Cbr%20%2F%3E%0A%3Cbr%20%2F%3E%0AB
 emerkung%3A%3Cbr%20%2F%3E%0ABusfahrt%20mit%20den%20Ausschuss%20f%C3%BCr%2
 0Umwelt%20und%20Planung%3C%2Fp%3E":Link zur Tagesordnung: https://kreis-h
 erford.ratsinfomanagement.net/tops/?__=UGhVM0hpd2NXNFdFcExjZQiq2aPfVh675C
 R5I4kTPR0\n\nBemerkung:\n\nBusfahrt mit den Ausschuss für Umwelt und Pla
 nung
CLASS:PUBLIC
DTSTART;TZID=Europe/Berlin:20260928T140000
DTEND;TZID=Europe/Berlin:20260928T180000
DTSTAMP:20260421T114526
END:VEVENT
END:VCALENDAR