BEGIN:VCALENDAR
VERSION:2.0
PRODID:gruene-kreistag.de
METHOD:PUBLISH
BEGIN:VTIMEZONE
TZID:Europe/Berlin
X-LIC-LOCATION:Europe/Berlin
BEGIN:DAYLIGHT
TZOFFSETFROM:+0100
TZOFFSETTO:+0200
TZNAME:CEST
DTSTART:19700329T020000
RRULE:FREQ=YEARLY;INTERVAL=1;BYDAY=-1SU;BYMONTH=3
END:DAYLIGHT
BEGIN:STANDARD
TZOFFSETFROM:+0200
TZOFFSETTO:+0100
TZNAME:CET
DTSTART:19701025T030000
RRULE:FREQ=YEARLY;INTERVAL=1;BYDAY=-1SU;BYMONTH=10
END:STANDARD
END:VTIMEZONE
BEGIN:VEVENT
UID:0e105d1a33114876288504912f95184b@gruene-kreistag.de
URL;VALUE=URI:https://gruene-kreistag.de/termine/sport-schul-und-kulturau
 sschuss-3/
LOCATION:Kreishaus, 32051 Herford, Sitzungsraum 3.00/3.01
SUMMARY:Sport-, Schul- und Kulturausschuss
DESCRIPTION;ALTREP="data:text/html,%3Cp%3ELink%20zur%20Tagesordnung%3A%20
 https%3A%2F%2Fkreis-herford.ratsinfomanagement.net%2Ftops%2F%3F__%3DUGhVM
 0hpd2NXNFdFcExjZVjTmeh_8KYJzsoJ4vhQcFQ%3C%2Fp%3E":Link zur Tagesordnung: 
 https://kreis-herford.ratsinfomanagement.net/tops/?__=UGhVM0hpd2NXNFdFcEx
 jZVjTmeh_8KYJzsoJ4vhQcFQ
CLASS:PUBLIC
DTSTART;TZID=Europe/Berlin:20260518T170000
DTEND;TZID=Europe/Berlin:20260518T180000
DTSTAMP:20260421T114627
END:VEVENT
END:VCALENDAR